BEGIN:VCALENDAR
VERSION:2.0
PRODID:icalendar-ruby
CALSCALE:GREGORIAN
METHOD:PUBLISH
BEGIN:VEVENT
DTSTAMP:20260423T092629Z
UID:5-2197582@cityon.tithelysetup2.com
DTSTART:20260614T180000Z
DTEND:20260614T190000Z
CLASS:PUBLIC
CREATED:20260422T064244
DESCRIPTION:Sunday Worship
LAST-MODIFIED:20260422T064244
LOCATION:
SUMMARY:Sunday Worship
URL;VALUE=URI:https://cityon.tithelysetup2.com/events/sunday-worship/2026-0
 6-14
END:VEVENT
END:VCALENDAR
